BEGIN:VCALENDAR
VERSION:2.0
PRODID:-//Tukios.com/
BEGIN:VEVENT
UID:fd1bf5cb-2c28-46da-bafb-ac385d2eb875@www.hhhfunerals.com
DTSTAMP:20260424T173929Z
DTSTART:20260426T200000Z
DTEND:20260427T010000Z
SUMMARY:Visitation
DESCRIPTION:
URL:https://www.hhhfunerals.com/obituaries/ellie-woolbright
LOCATION: 59 N Jefferson Avenue  Cookeville TN 38501
GEO:36.1644613;-85.4995852
END:VEVENT
END:VCALENDAR