BEGIN:VCALENDAR
VERSION:2.0
PRODID:-//Tukios.com/
BEGIN:VEVENT
UID:da9e0810-4096-4843-834a-1a6a11d368c1@www.hhhfunerals.com
DTSTAMP:20260424T173844Z
DTSTART:20260427T150000Z
DTEND:20260427T180000Z
SUMMARY:Visitation
DESCRIPTION:
URL:https://www.hhhfunerals.com/obituaries/ellie-woolbright
LOCATION: 59 N Jefferson Avenue  Cookeville TN 38501
GEO:36.1644613;-85.4995852
END:VEVENT
END:VCALENDAR