BEGIN:VCALENDAR
VERSION:2.0
PRODID:-//Tukios.com/
BEGIN:VEVENT
UID:04a31f87-c594-4ce6-af22-7acab83a90df@www.hhhfunerals.com
DTSTAMP:20260424T174145Z
DTSTART:20260427T180000Z
DTEND:20260427T190000Z
SUMMARY:Funeral Service
DESCRIPTION:
URL:https://www.hhhfunerals.com/obituaries/ellie-woolbright
LOCATION: 59 N Jefferson Avenue  Cookeville TN 38501
GEO:36.1644613;-85.4995852
END:VEVENT
END:VCALENDAR