BEGIN:VCALENDAR
VERSION:2.0
PRODID:-//Tukios.com/
BEGIN:VEVENT
UID:456279f9-689f-4e0c-8c9b-05c2ede75901@www.hhhfunerals.com
DTSTAMP:20260421T013127Z
DTSTART:20260710T180000Z
DTEND:20260710T190000Z
SUMMARY:Interment
DESCRIPTION:
URL:https://www.hhhfunerals.com/obituaries/mary-mackey
LOCATION: 1 Memorial Ave  Arlington VA 22211
GEO:38.8825834;-77.0686609
END:VEVENT
END:VCALENDAR