BEGIN:VCALENDAR
VERSION:2.0
PRODID:-//Tukios.com/
BEGIN:VEVENT
UID:0691b4e0-b192-451c-9555-7626389fb716@www.hhhfunerals.com
DTSTAMP:20260424T180407Z
DTSTART:20260620T170000Z
DTEND:20260620T210000Z
SUMMARY:Celebration of Life
DESCRIPTION:
URL:https://www.hhhfunerals.com/obituaries/nancy-bailey
LOCATION:Timber Pointe Golf Club 5750 Woodstock Road  Poplar Grove IL 
	61065
GEO:42.3070228;-88.826807
END:VEVENT
END:VCALENDAR