BEGIN:VCALENDAR
VERSION:2.0
PRODID:-//Tukios.com/
BEGIN:VEVENT
UID:abe044c5-88b8-4fea-afa4-be96cb2852ce@www.hhhfunerals.com
DTSTAMP:20260425T013708Z
DTSTART:20260428T150000Z
DTEND:20260428T160000Z
SUMMARY:Graveside Service
DESCRIPTION:
URL:https://www.hhhfunerals.com/obituaries/rickie-jackson
LOCATION: 1200 Bailey Avenue  Chattanooga TN 37404
GEO:35.0370685;-85.2854433
END:VEVENT
END:VCALENDAR