BEGIN:VCALENDAR
VERSION:2.0
PRODID:-//Tukios.com/
BEGIN:VEVENT
UID:b9d4ebf0-4948-447a-a9bb-669c6daae70f@www.hhhfunerals.com
DTSTAMP:20260423T234633Z
DTSTART:20260428T180000Z
DTEND:20260428T190000Z
SUMMARY:Graveside Service
DESCRIPTION:
URL:https://www.hhhfunerals.com/obituaries/suzanne-burgess
LOCATION: 10825 Hopewell Road  Silver Point TN 38582
GEO:36.127805;-85.6996724
END:VEVENT
END:VCALENDAR